BEGIN:VCALENDAR
VERSION:2.0
PRODID:-//wp-events-plugin.com//7.2.3.1//EN
TZID:America/Chicago
X-WR-TIMEZONE:America/Chicago
BEGIN:VEVENT
UID:839@workingmensinstitute.org
DTSTART;TZID=America/Chicago:20260425T133000
DTEND;TZID=America/Chicago:20260425T170000
DTSTAMP:20260404T155511Z
URL:https://workingmensinstitute.org/programs/basics-of-woody-plants-with-
 bill-mcknight/
SUMMARY:BASICS OF WOODY PLANTS  with Bill McKnight
DESCRIPTION:This FREE hands-on workshop will offer inside and outside act
 ivities. However\, participation is limited to 20. Handouts will be provid
 ed. Among other things\, participants will be instructed about woody plant
 s with an emphasis on identification\, as well as landscaping use/suitabil
 ity and pruning. Proper tree measuring methods will also be demonstrated.\
 nContact Bill to reserve your spot!\n317-205-5440\nbill.madbotanist@gmail.
 com
ATTACH;FMTTYPE=image/jpeg:https://i0.wp.com/workingmensinstitute.org/wp-co
 ntent/uploads/2026/04/Untitled-design-2.png?fit=2000%2C2000&ssl=1
END:VEVENT
BEGIN:VTIMEZONE
TZID:America/Chicago
X-LIC-LOCATION:America/Chicago
BEGIN:DAYLIGHT
DTSTART:20260308T030000
TZOFFSETFROM:-0600
TZOFFSETTO:-0500
TZNAME:CDT
END:DAYLIGHT
END:VTIMEZONE
END:VCALENDAR